BEGIN:VCALENDAR
VERSION:2.0
PRODID:-//Arts First Association - ECPv6.15.11//NONSGML v1.0//EN
CALSCALE:GREGORIAN
METHOD:PUBLISH
X-ORIGINAL-URL:https://afa-my.org
X-WR-CALDESC:Events for Arts First Association
REFRESH-INTERVAL;VALUE=DURATION:PT1H
X-Robots-Tag:noindex
X-PUBLISHED-TTL:PT1H
BEGIN:VTIMEZONE
TZID:Asia/Shanghai
BEGIN:STANDARD
TZOFFSETFROM:+0800
TZOFFSETTO:+0800
TZNAME:CST
DTSTART:20250101T000000
END:STANDARD
END:VTIMEZONE
BEGIN:VEVENT
DTSTART;VALUE=DATE:20260611
DTEND;VALUE=DATE:20260613
DTSTAMP:20260421T235937
CREATED:20190512T235835Z
LAST-MODIFIED:20251103T105431Z
UID:941-1781164800-1781251199@afa-my.org
SUMMARY:Events at PJPAC
DESCRIPTION:Check out the upcoming events at PJPAC.com.my
URL:https://afa-my.org/program/eventsatpjpac/
LOCATION:Nero@PJPAC\, S611\, 2ns Floor\, 1 Utama E\, Petaling Jaya\, Selangor\, 47800\, Malaysia
CATEGORIES:Members
ATTACH;FMTTYPE=image/jpeg:https://afa-my.org/wp-content/uploads/2019/05/PJPAC-01-tourism-selangor.jpg
END:VEVENT
END:VCALENDAR