BEGIN:VCALENDAR
VERSION:2.0
PRODID:-//Arts First Association - ECPv6.15.11//NONSGML v1.0//EN
CALSCALE:GREGORIAN
METHOD:PUBLISH
X-WR-CALNAME:Arts First Association
X-ORIGINAL-URL:https://afa-my.org
X-WR-CALDESC:Events for Arts First Association
REFRESH-INTERVAL;VALUE=DURATION:PT1H
X-Robots-Tag:noindex
X-PUBLISHED-TTL:PT1H
BEGIN:VTIMEZONE
TZID:Asia/Shanghai
BEGIN:STANDARD
TZOFFSETFROM:+0800
TZOFFSETTO:+0800
TZNAME:CST
DTSTART:20240101T000000
END:STANDARD
END:VTIMEZONE
BEGIN:VEVENT
DTSTART;TZID=Asia/Shanghai:20251111T193000
DTEND;TZID=Asia/Shanghai:20251111T220000
DTSTAMP:20260422T071528
CREATED:20250906T184730Z
LAST-MODIFIED:20251108T055817Z
UID:5819-1762889400-1762898400@afa-my.org
SUMMARY:Arts First Association Launches to Champion Malaysia’s Creative Arts Ecosystem
DESCRIPTION:Date: Tuesday\, 11 November 2025\nTime: 7.30 PM – 10.00 PM\nVenue: Nero Event Space\, PJPAC\, 1 Utama\, Petaling Jaya\nThe launch event will feature a dialogue on AFA’s position\, panel discussion\, and the association’s upcoming initiatives. \nLAUNCH PROGRAM\n7:30 PM — Registration\n8:00 PM — Welcome & AFA Presentation\n8:15 PM — Panel Discussion\n9:30 PM — Closing Remarks\n10:00 PM — End \nTICKETS\n \nFREE access\, register attendance with Cloudjoi
URL:https://afa-my.org/program/afa-launch/
LOCATION:Nero@PJPAC\, S611\, 2ns Floor\, 1 Utama E\, Petaling Jaya\, Selangor\, 47800\, Malaysia
CATEGORIES:Upcoming
ATTACH;FMTTYPE=image/jpeg:https://afa-my.org/wp-content/uploads/2019/05/675.jpg
END:VEVENT
END:VCALENDAR